Package: regsplice Version: 1.34.0 Command: /Library/Frameworks/R.framework/Resources/bin/R CMD check --install=check:regsplice.install-out.txt --library=/Library/Frameworks/R.framework/Resources/library --no-vignettes --timings regsplice_1.34.0.tar.gz StartedAt: 2025-04-21 21:10:34 -0400 (Mon, 21 Apr 2025) EndedAt: 2025-04-21 21:11:56 -0400 (Mon, 21 Apr 2025) EllapsedTime: 81.9 seconds RetCode: 0 Status: OK CheckDir: regsplice.Rcheck Warnings: 0