Package: regsplice Version: 1.34.0 Command: /Library/Frameworks/R.framework/Resources/bin/R CMD build --keep-empty-dirs --no-resave-data regsplice StartedAt: 2025-04-21 17:24:47 -0400 (Mon, 21 Apr 2025) EndedAt: 2025-04-21 17:25:08 -0400 (Mon, 21 Apr 2025) EllapsedTime: 21.2 seconds RetCode: 0 Status: OK PackageFile: regsplice_1.34.0.tar.gz PackageFileSize: 287.1 KiB