Package: regioneReloaded Version: 1.10.0 Command: /home/biocbuild/R/R/bin/R CMD INSTALL regioneReloaded StartedAt: 2025-10-13 21:12:51 -0000 (Mon, 13 Oct 2025) EndedAt: 2025-10-13 21:13:43 -0000 (Mon, 13 Oct 2025) EllapsedTime: 51.9 seconds RetCode: 0 Status: OK