Package: regioneReloaded Version: 1.10.0 Command: /home/biocbuild/R/R/bin/R CMD build --keep-empty-dirs --no-resave-data regioneReloaded StartedAt: 2025-10-14 03:57:14 -0000 (Tue, 14 Oct 2025) EndedAt: 2025-10-14 03:59:08 -0000 (Tue, 14 Oct 2025) EllapsedTime: 114.0 seconds RetCode: 0 Status: OK PackageFile: regioneReloaded_1.10.0.tar.gz PackageFileSize: 3.827 MiB