Package: regioneReloaded Version: 1.10.0 Command: /Library/Frameworks/R.framework/Resources/bin/R CMD build --keep-empty-dirs --no-resave-data regioneReloaded StartedAt: 2025-10-14 07:36:24 -0400 (Tue, 14 Oct 2025) EndedAt: 2025-10-14 07:38:06 -0400 (Tue, 14 Oct 2025) EllapsedTime: 102.9 seconds RetCode: 0 Status: OK PackageFile: regioneReloaded_1.10.0.tar.gz PackageFileSize: 4.046 MiB