Package: regioneReloaded Version: 1.10.0 Maintainer: Roberto Malinverni MaintainerEmail: roberto.malinverni at gmail.com git_url: https://git.bioconductor.org/packages/regioneReloaded git_branch: RELEASE_3_21 git_last_commit: 234eb5f git_last_commit_date: 2025-04-15 12:55:23 -0400 (Tue, 15 Apr 2025)