Package: regioneR Version: 1.40.1 Command: /home/biocbuild/bbs-3.21-bioc/R/bin/R CMD INSTALL regioneR StartedAt: 2025-10-15 15:31:48 -0400 (Wed, 15 Oct 2025) EndedAt: 2025-10-15 15:32:21 -0400 (Wed, 15 Oct 2025) EllapsedTime: 33.2 seconds RetCode: 0 Status: OK