Package: regioneR Version: 1.40.1 Command: /home/biocbuild/bbs-3.21-bioc/R/bin/R CMD build --keep-empty-dirs --no-resave-data regioneR StartedAt: 2025-10-15 19:25:46 -0400 (Wed, 15 Oct 2025) EndedAt: 2025-10-15 19:27:29 -0400 (Wed, 15 Oct 2025) EllapsedTime: 103.1 seconds RetCode: 0 Status: OK PackageFile: regioneR_1.40.1.tar.gz PackageFileSize: 1.968 MiB