Package: regioneR Version: 1.40.1 Command: rm -rf regioneR.buildbin-libdir && mkdir regioneR.buildbin-libdir && /Users/biocbuild/BBS/utils/build-universal.sh regioneR_1.40.1.tar.gz /Library/Frameworks/R.framework/Resources/bin/R regioneR.buildbin-libdir StartedAt: 2025-10-14 14:31:23 -0400 (Tue, 14 Oct 2025) EndedAt: 2025-10-14 14:32:52 -0400 (Tue, 14 Oct 2025) EllapsedTime: 88.8 seconds RetCode: 0 Status: OK PackageFile: regioneR_1.40.1.tgz PackageFileSize: 1.79 MiB