Package: regioneR Version: 1.40.1 Command: /home/biocbuild/R/R/bin/R CMD INSTALL regioneR StartedAt: 2025-10-13 20:47:27 -0000 (Mon, 13 Oct 2025) EndedAt: 2025-10-13 20:48:14 -0000 (Mon, 13 Oct 2025) EllapsedTime: 46.7 seconds RetCode: 0 Status: OK