Package: regioneR Version: 1.40.1 Command: /home/biocbuild/R/R/bin/R CMD check --install=check:regioneR.install-out.txt --library=/home/biocbuild/R/R/site-library --no-vignettes --timings regioneR_1.40.1.tar.gz StartedAt: 2025-10-10 12:58:23 -0000 (Fri, 10 Oct 2025) EndedAt: 2025-10-10 13:07:54 -0000 (Fri, 10 Oct 2025) EllapsedTime: 570.6 seconds RetCode: 0 Status: OK CheckDir: regioneR.Rcheck Warnings: 0