Package: regioneR Version: 1.40.1 Command: /home/biocbuild/R/R/bin/R CMD build --keep-empty-dirs --no-resave-data regioneR StartedAt: 2025-10-14 03:57:01 -0000 (Tue, 14 Oct 2025) EndedAt: 2025-10-14 04:37:02 -0000 (Tue, 14 Oct 2025) EllapsedTime: 2400.3 seconds RetCode: None Status: TIMEOUT PackageFile: None PackageFileSize: NA