Package: regionalpcs Version: 1.6.0 Command: rm -rf regionalpcs.buildbin-libdir && mkdir regionalpcs.buildbin-libdir && E:\biocbuild\bbs-3.21-bioc\R\bin\R.exe CMD INSTALL --build --library=regionalpcs.buildbin-libdir regionalpcs_1.6.0.tar.gz StartedAt: 2025-08-15 10:04:52 -0400 (Fri, 15 Aug 2025) EndedAt: 2025-08-15 10:05:07 -0400 (Fri, 15 Aug 2025) EllapsedTime: 15.6 seconds RetCode: 0 Status: OK PackageFile: regionalpcs_1.6.0.zip PackageFileSize: 479.9 KiB