Package: regionalpcs Version: 1.6.0 Command: /Library/Frameworks/R.framework/Resources/bin/R CMD build --keep-empty-dirs --no-resave-data regionalpcs StartedAt: 2025-04-21 18:07:52 -0400 (Mon, 21 Apr 2025) EndedAt: 2025-04-21 18:08:29 -0400 (Mon, 21 Apr 2025) EllapsedTime: 36.6 seconds RetCode: 0 Status: OK PackageFile: regionalpcs_1.6.0.tar.gz PackageFileSize: 469.8 KiB