Package: regionalpcs Version: 1.6.0 Command: rm -rf regionalpcs.buildbin-libdir && mkdir regionalpcs.buildbin-libdir && /Users/biocbuild/BBS/utils/build-universal.sh regionalpcs_1.6.0.tar.gz /Library/Frameworks/R.framework/Resources/bin/R regionalpcs.buildbin-libdir StartedAt: 2025-04-22 01:03:23 -0400 (Tue, 22 Apr 2025) EndedAt: 2025-04-22 01:03:29 -0400 (Tue, 22 Apr 2025) EllapsedTime: 5.8 seconds RetCode: 0 Status: OK PackageFile: regionalpcs_1.6.0.tgz PackageFileSize: 476.4 KiB