Package: regionalpcs Version: 1.6.0 Command: /home/biocbuild/R/R/bin/R CMD INSTALL regionalpcs StartedAt: 2025-10-13 21:14:07 -0000 (Mon, 13 Oct 2025) EndedAt: 2025-10-13 21:14:09 -0000 (Mon, 13 Oct 2025) EllapsedTime: 2.4 seconds RetCode: 0 Status: OK