Package: regionalpcs Version: 1.6.0 Command: /home/biocbuild/R/R/bin/R CMD build --keep-empty-dirs --no-resave-data regionalpcs StartedAt: 2025-10-14 03:56:17 -0000 (Tue, 14 Oct 2025) EndedAt: 2025-10-14 03:57:01 -0000 (Tue, 14 Oct 2025) EllapsedTime: 44.0 seconds RetCode: 0 Status: OK PackageFile: regionalpcs_1.6.0.tar.gz PackageFileSize: 495 KiB