Package: regionalpcs Version: 1.6.0 Command: rm -rf regionalpcs.buildbin-libdir && mkdir regionalpcs.buildbin-libdir && /Users/biocbuild/BBS/utils/build-universal.sh regionalpcs_1.6.0.tar.gz /Library/Frameworks/R.framework/Resources/bin/R regionalpcs.buildbin-libdir StartedAt: 2025-04-21 22:48:19 -0400 (Mon, 21 Apr 2025) EndedAt: 2025-04-21 22:48:21 -0400 (Mon, 21 Apr 2025) EllapsedTime: 2.0 seconds RetCode: 0 Status: OK PackageFile: regionalpcs_1.6.0.tgz PackageFileSize: 477.3 KiB