Package: regionalpcs Version: 1.6.0 Command: /Library/Frameworks/R.framework/Resources/bin/R CMD INSTALL regionalpcs StartedAt: 2025-10-13 18:19:11 -0400 (Mon, 13 Oct 2025) EndedAt: 2025-10-13 18:19:13 -0400 (Mon, 13 Oct 2025) EllapsedTime: 2.3 seconds RetCode: 0 Status: OK