Package: regionalpcs Version: 1.6.0 Command: rm -rf regionalpcs.buildbin-libdir && mkdir regionalpcs.buildbin-libdir && /Users/biocbuild/BBS/utils/build-universal.sh regionalpcs_1.6.0.tar.gz /Library/Frameworks/R.framework/Resources/bin/R regionalpcs.buildbin-libdir StartedAt: 2025-10-15 20:02:17 -0400 (Wed, 15 Oct 2025) EndedAt: 2025-10-15 20:02:20 -0400 (Wed, 15 Oct 2025) EllapsedTime: 3.5 seconds RetCode: 0 Status: OK PackageFile: regionalpcs_1.6.0.tgz PackageFileSize: 476.7 KiB