Package: regionReport Version: 1.42.0 Command: /home/biocbuild/R/R/bin/R CMD INSTALL regionReport StartedAt: 2025-10-13 21:15:06 -0000 (Mon, 13 Oct 2025) EndedAt: 2025-10-13 21:16:14 -0000 (Mon, 13 Oct 2025) EllapsedTime: 67.8 seconds RetCode: 0 Status: OK