Package: recoup Version: 1.36.0 Command: E:\biocbuild\bbs-3.21-bioc\R\bin\R.exe CMD INSTALL recoup StartedAt: 2025-08-14 16:46:57 -0400 (Thu, 14 Aug 2025) EndedAt: 2025-08-14 16:48:07 -0400 (Thu, 14 Aug 2025) EllapsedTime: 69.6 seconds RetCode: 0 Status: OK