Package: recountmethylation Version: 1.18.0 Command: /Library/Frameworks/R.framework/Resources/bin/R CMD INSTALL recountmethylation StartedAt: 2025-10-13 16:13:40 -0400 (Mon, 13 Oct 2025) EndedAt: 2025-10-13 16:13:45 -0400 (Mon, 13 Oct 2025) EllapsedTime: 5.7 seconds RetCode: 0 Status: OK