Package: recountmethylation Version: 1.18.0 Command: rm -rf recountmethylation.buildbin-libdir && mkdir recountmethylation.buildbin-libdir && /Users/biocbuild/BBS/utils/build-universal.sh recountmethylation_1.18.0.tar.gz /Library/Frameworks/R.framework/Resources/bin/R recountmethylation.buildbin-libdir StartedAt: 2025-04-21 22:48:14 -0400 (Mon, 21 Apr 2025) EndedAt: 2025-04-21 22:48:17 -0400 (Mon, 21 Apr 2025) EllapsedTime: 3.1 seconds RetCode: 0 Status: OK PackageFile: recountmethylation_1.18.0.tgz PackageFileSize: 4.794 MiB