Package: recountmethylation Version: 1.18.0 Command: /Library/Frameworks/R.framework/Resources/bin/R CMD INSTALL recountmethylation StartedAt: 2025-10-13 17:22:22 -0400 (Mon, 13 Oct 2025) EndedAt: 2025-10-13 17:22:25 -0400 (Mon, 13 Oct 2025) EllapsedTime: 3.1 seconds RetCode: 0 Status: OK