Package: recountmethylation Version: 1.18.0 Command: /Library/Frameworks/R.framework/Resources/bin/R CMD build --keep-empty-dirs --no-resave-data recountmethylation StartedAt: 2025-10-14 07:30:58 -0400 (Tue, 14 Oct 2025) EndedAt: 2025-10-14 07:33:55 -0400 (Tue, 14 Oct 2025) EllapsedTime: 176.7 seconds RetCode: 0 Status: OK PackageFile: recountmethylation_1.18.0.tar.gz PackageFileSize: 4.858 MiB