Package: recountmethylation Version: 1.18.0 Command: rm -rf recountmethylation.buildbin-libdir && mkdir recountmethylation.buildbin-libdir && /Users/biocbuild/BBS/utils/build-universal.sh recountmethylation_1.18.0.tar.gz /Library/Frameworks/R.framework/Resources/bin/R recountmethylation.buildbin-libdir StartedAt: 2025-10-15 20:01:15 -0400 (Wed, 15 Oct 2025) EndedAt: 2025-10-15 20:01:20 -0400 (Wed, 15 Oct 2025) EllapsedTime: 5.7 seconds RetCode: 0 Status: OK PackageFile: recountmethylation_1.18.0.tgz PackageFileSize: 4.793 MiB