Package: recount3 Version: 1.18.0 Command: /Library/Frameworks/R.framework/Resources/bin/R CMD check --install=check:recount3.install-out.txt --library=/Library/Frameworks/R.framework/Resources/library --no-vignettes --timings recount3_1.18.0.tar.gz StartedAt: 2025-04-21 21:09:23 -0400 (Mon, 21 Apr 2025) EndedAt: 2025-04-21 21:13:51 -0400 (Mon, 21 Apr 2025) EllapsedTime: 268.1 seconds RetCode: 0 Status: OK CheckDir: recount3.Rcheck Warnings: 0