Package: recount Version: 1.34.0 Command: /home/biocbuild/bbs-3.21-bioc/R/bin/R CMD INSTALL recount StartedAt: 2025-10-15 15:56:24 -0400 (Wed, 15 Oct 2025) EndedAt: 2025-10-15 15:57:35 -0400 (Wed, 15 Oct 2025) EllapsedTime: 71.5 seconds RetCode: 0 Status: OK