Package: recount Version: 1.34.0 Command: /home/biocbuild/bbs-3.21-bioc/R/bin/R CMD check --install=check:recount.install-out.txt --library=/home/biocbuild/bbs-3.21-bioc/R/site-library --timings recount_1.34.0.tar.gz StartedAt: 2025-10-16 02:43:01 -0400 (Thu, 16 Oct 2025) EndedAt: 2025-10-16 02:58:04 -0400 (Thu, 16 Oct 2025) EllapsedTime: 902.6 seconds RetCode: 0 Status: OK CheckDir: recount.Rcheck Warnings: 0