Package: recount Version: 1.34.0 Command: /home/biocbuild/bbs-3.21-bioc/R/bin/R CMD build --keep-empty-dirs --no-resave-data recount StartedAt: 2025-10-15 19:24:52 -0400 (Wed, 15 Oct 2025) EndedAt: 2025-10-15 19:32:46 -0400 (Wed, 15 Oct 2025) EllapsedTime: 473.5 seconds RetCode: 0 Status: OK PackageFile: recount_1.34.0.tar.gz PackageFileSize: 7.275 MiB