Package: recount Version: 1.34.0 Command: /home/biocbuild/R/R/bin/R CMD INSTALL recount StartedAt: 2025-10-13 21:16:23 -0000 (Mon, 13 Oct 2025) EndedAt: 2025-10-13 21:18:02 -0000 (Mon, 13 Oct 2025) EllapsedTime: 98.8 seconds RetCode: 0 Status: OK