Package: recount Version: 1.34.0 Command: /home/biocbuild/R/R/bin/R CMD check --install=check:recount.install-out.txt --library=/home/biocbuild/R/R/site-library --no-vignettes --timings recount_1.34.0.tar.gz StartedAt: 2025-10-14 13:07:20 -0000 (Tue, 14 Oct 2025) EndedAt: 2025-10-14 13:24:38 -0000 (Tue, 14 Oct 2025) EllapsedTime: 1038.2 seconds RetCode: 0 Status: OK CheckDir: recount.Rcheck Warnings: 0