Package: recount Version: 1.34.0 Command: /home/biocbuild/R/R/bin/R CMD build --keep-empty-dirs --no-resave-data recount StartedAt: 2025-10-14 03:55:35 -0000 (Tue, 14 Oct 2025) EndedAt: 2025-10-14 04:33:50 -0000 (Tue, 14 Oct 2025) EllapsedTime: 2294.3 seconds RetCode: 0 Status: OK PackageFile: recount_1.34.0.tar.gz PackageFileSize: 7.192 MiB