Package: recount Version: 1.34.0 Command: /Library/Frameworks/R.framework/Resources/bin/R CMD INSTALL recount StartedAt: 2025-10-13 18:25:31 -0400 (Mon, 13 Oct 2025) EndedAt: 2025-10-13 18:27:08 -0400 (Mon, 13 Oct 2025) EllapsedTime: 97.1 seconds RetCode: 0 Status: OK