Package: recount Version: 1.34.0 Command: rm -rf recount.buildbin-libdir && mkdir recount.buildbin-libdir && /Users/biocbuild/BBS/utils/build-universal.sh recount_1.34.0.tar.gz /Library/Frameworks/R.framework/Resources/bin/R recount.buildbin-libdir StartedAt: 2025-10-15 20:00:59 -0400 (Wed, 15 Oct 2025) EndedAt: 2025-10-15 20:02:46 -0400 (Wed, 15 Oct 2025) EllapsedTime: 107.5 seconds RetCode: 0 Status: OK PackageFile: recount_1.34.0.tgz PackageFileSize: 7.858 MiB