Package: reconsi Version: 1.20.0 Command: E:\biocbuild\bbs-3.21-bioc\R\bin\R.exe CMD check --no-multiarch --install=check:reconsi.install-out.txt --library=E:\biocbuild\bbs-3.21-bioc\R\library --no-vignettes --timings reconsi_1.20.0.tar.gz StartedAt: 2025-08-15 05:56:56 -0400 (Fri, 15 Aug 2025) EndedAt: 2025-08-15 06:00:53 -0400 (Fri, 15 Aug 2025) EllapsedTime: 237.2 seconds RetCode: 0 Status: OK CheckDir: reconsi.Rcheck Warnings: 0