Package: reconsi Version: 1.20.0 Command: chmod a+r reconsi -R && E:\biocbuild\bbs-3.21-bioc\R\bin\R.exe CMD build --keep-empty-dirs --no-resave-data reconsi StartedAt: 2025-08-14 21:39:50 -0400 (Thu, 14 Aug 2025) EndedAt: 2025-08-14 21:41:23 -0400 (Thu, 14 Aug 2025) EllapsedTime: 92.6 seconds RetCode: 0 Status: OK PackageFile: reconsi_1.20.0.tar.gz PackageFileSize: 95.75 KiB