Package: reconsi Version: 1.20.0 Command: rm -rf reconsi.buildbin-libdir && mkdir reconsi.buildbin-libdir && E:\biocbuild\bbs-3.21-bioc\R\bin\R.exe CMD INSTALL --build --library=reconsi.buildbin-libdir reconsi_1.20.0.tar.gz StartedAt: 2025-08-15 10:04:26 -0400 (Fri, 15 Aug 2025) EndedAt: 2025-08-15 10:05:01 -0400 (Fri, 15 Aug 2025) EllapsedTime: 34.9 seconds RetCode: 0 Status: OK PackageFile: reconsi_1.20.0.zip PackageFileSize: 165.6 KiB