Package: reconsi Version: 1.20.0 Command: /Library/Frameworks/R.framework/Resources/bin/R CMD INSTALL reconsi StartedAt: 2025-10-13 15:40:21 -0400 (Mon, 13 Oct 2025) EndedAt: 2025-10-13 15:41:03 -0400 (Mon, 13 Oct 2025) EllapsedTime: 41.6 seconds RetCode: 0 Status: OK