Package: reconsi Version: 1.20.0 Command: /Library/Frameworks/R.framework/Resources/bin/R CMD INSTALL reconsi StartedAt: 2025-10-13 15:45:34 -0400 (Mon, 13 Oct 2025) EndedAt: 2025-10-13 15:45:56 -0400 (Mon, 13 Oct 2025) EllapsedTime: 22.1 seconds RetCode: 0 Status: OK