Package: rcellminer Version: 2.30.1 Command: rm -rf rcellminer.buildbin-libdir && mkdir rcellminer.buildbin-libdir && E:\biocbuild\bbs-3.21-bioc\R\bin\R.exe CMD INSTALL --build --library=rcellminer.buildbin-libdir rcellminer_2.30.1.tar.gz StartedAt: 2025-08-15 10:03:12 -0400 (Fri, 15 Aug 2025) EndedAt: 2025-08-15 10:04:21 -0400 (Fri, 15 Aug 2025) EllapsedTime: 69.3 seconds RetCode: 0 Status: OK PackageFile: rcellminer_2.30.1.zip PackageFileSize: 973.1 KiB