Package: rcellminer Version: 2.30.1 Command: /Library/Frameworks/R.framework/Resources/bin/R CMD check --install=check:rcellminer.install-out.txt --library=/Library/Frameworks/R.framework/Resources/library --no-vignettes --timings rcellminer_2.30.1.tar.gz StartedAt: 2025-10-10 08:53:58 -0400 (Fri, 10 Oct 2025) EndedAt: 2025-10-10 08:57:53 -0400 (Fri, 10 Oct 2025) EllapsedTime: 234.6 seconds RetCode: 0 Status: WARNINGS CheckDir: rcellminer.Rcheck Warnings: 1