Package: rcellminer Version: 2.30.1 Command: /Library/Frameworks/R.framework/Resources/bin/R CMD build --keep-empty-dirs --no-resave-data rcellminer StartedAt: 2025-10-09 21:54:26 -0400 (Thu, 09 Oct 2025) EndedAt: 2025-10-09 21:59:49 -0400 (Thu, 09 Oct 2025) EllapsedTime: 322.9 seconds RetCode: 0 Status: OK PackageFile: rcellminer_2.30.1.tar.gz PackageFileSize: 2.659 MiB