Package: rcellminer Version: 2.30.1 Command: rm -rf rcellminer.buildbin-libdir && mkdir rcellminer.buildbin-libdir && /Users/biocbuild/BBS/utils/build-universal.sh rcellminer_2.30.1.tar.gz /Library/Frameworks/R.framework/Resources/bin/R rcellminer.buildbin-libdir StartedAt: 2025-10-10 14:30:28 -0400 (Fri, 10 Oct 2025) EndedAt: 2025-10-10 14:31:09 -0400 (Fri, 10 Oct 2025) EllapsedTime: 40.9 seconds RetCode: 0 Status: OK PackageFile: rcellminer_2.30.1.tgz PackageFileSize: 2.914 MiB