Package: rcellminer Version: 2.30.0 Command: /Library/Frameworks/R.framework/Resources/bin/R CMD check --install=check:rcellminer.install-out.txt --library=/Library/Frameworks/R.framework/Resources/library --no-vignettes --timings rcellminer_2.30.0.tar.gz StartedAt: 2025-04-21 22:56:00 -0400 (Mon, 21 Apr 2025) EndedAt: 2025-04-21 22:58:12 -0400 (Mon, 21 Apr 2025) EllapsedTime: 132.7 seconds RetCode: 1 Status: ERROR CheckDir: rcellminer.Rcheck Warnings: NA