Package: rcellminer Version: 2.30.1 Command: /home/biocbuild/R/R/bin/R CMD INSTALL rcellminer StartedAt: 2025-09-29 20:26:22 -0000 (Mon, 29 Sep 2025) EndedAt: 2025-09-29 20:26:31 -0000 (Mon, 29 Sep 2025) EllapsedTime: 9.3 seconds RetCode: 0 Status: OK