Package: rawrr Version: 1.16.0 Command: rm -rf rawrr.buildbin-libdir && mkdir rawrr.buildbin-libdir && E:\biocbuild\bbs-3.21-bioc\R\bin\R.exe CMD INSTALL --build --library=rawrr.buildbin-libdir rawrr_1.16.0.tar.gz StartedAt: 2025-08-15 10:02:30 -0400 (Fri, 15 Aug 2025) EndedAt: 2025-08-15 10:02:52 -0400 (Fri, 15 Aug 2025) EllapsedTime: 22.5 seconds RetCode: 0 Status: OK PackageFile: rawrr_1.16.0.zip PackageFileSize: 1.438 MiB