Package: rawrr Version: 1.16.0 Command: /home/biocbuild/bbs-3.21-bioc/R/bin/R CMD INSTALL rawrr StartedAt: 2025-10-15 15:01:58 -0400 (Wed, 15 Oct 2025) EndedAt: 2025-10-15 15:02:01 -0400 (Wed, 15 Oct 2025) EllapsedTime: 2.7 seconds RetCode: 0 Status: OK