Package: rawrr Version: 1.16.0 Command: /home/biocbuild/bbs-3.21-bioc/R/bin/R CMD check --install=check:rawrr.install-out.txt --library=/home/biocbuild/bbs-3.21-bioc/R/site-library --timings rawrr_1.16.0.tar.gz StartedAt: 2025-10-16 02:38:17 -0400 (Thu, 16 Oct 2025) EndedAt: 2025-10-16 02:41:46 -0400 (Thu, 16 Oct 2025) EllapsedTime: 209.4 seconds RetCode: 0 Status: OK CheckDir: rawrr.Rcheck Warnings: 0